BEGIN:VCALENDAR
VERSION:2.0
PRODID:-//EWU Alumni Association - ECPv6.15.15//NONSGML v1.0//EN
CALSCALE:GREGORIAN
METHOD:PUBLISH
X-WR-CALNAME:EWU Alumni Association
X-ORIGINAL-URL:https://ewualumni.com
X-WR-CALDESC:Events for EWU Alumni Association
REFRESH-INTERVAL;VALUE=DURATION:PT1H
X-Robots-Tag:noindex
X-PUBLISHED-TTL:PT1H
BEGIN:VTIMEZONE
TZID:UTC
BEGIN:STANDARD
TZOFFSETFROM:+0000
TZOFFSETTO:+0000
TZNAME:UTC
DTSTART:20210101T000000
END:STANDARD
END:VTIMEZONE
BEGIN:VEVENT
DTSTART;TZID=UTC:20220408T080000
DTEND;TZID=UTC:20220408T170000
DTSTAMP:20260423T010047
CREATED:20220304T194056Z
LAST-MODIFIED:20220304T194129Z
UID:943-1649404800-1649437200@ewualumni.com
SUMMARY:Nathaniel Glover Golf Tournament
DESCRIPTION:The Edward Waters University Presents the Inaugural Nathaniel Glover Golf Tournament \nTo be held at Bent Creek Golf course on Friday April 8th\, 2022 \nSponsorships are available as follows: \nPlatinum- $600 covers four golfers\, one sign and your company sign/logo on our website \nGold- $500 covers four golfers\, and your company sign/logo on our website \nSilver- $300 covers two golfers\, and your company sign/logo on our website \nHole sponsorships- $125 covers your name/company name on a sign at whatever hole you choose from 1 -18.
URL:https://ewualumni.com/event/943/
LOCATION:Bent Creek Golf Course\, 10440 Tournament Ln\, Jacksonville\, FL\, 32222\, United States
ATTACH;FMTTYPE=image/jpeg:https://ewualumni.com/wp-content/uploads/2022/03/ewu-golf-1.jpg
END:VEVENT
END:VCALENDAR